BEGIN:VCALENDAR
VERSION:2.0
PRODID:-//YSB Employment Services d&#039;emploi du BSJ - ECPv6.15.20//NONSGML v1.0//EN
CALSCALE:GREGORIAN
METHOD:PUBLISH
X-WR-CALNAME:YSB Employment Services d&#039;emploi du BSJ
X-ORIGINAL-URL:https://ysbes.ca
X-WR-CALDESC:Events for YSB Employment Services d&#039;emploi du BSJ
REFRESH-INTERVAL;VALUE=DURATION:PT1H
X-Robots-Tag:noindex
X-PUBLISHED-TTL:PT1H
BEGIN:VTIMEZONE
TZID:America/Toronto
BEGIN:DAYLIGHT
TZOFFSETFROM:-0500
TZOFFSETTO:-0400
TZNAME:EDT
DTSTART:20230312T070000
END:DAYLIGHT
BEGIN:STANDARD
TZOFFSETFROM:-0400
TZOFFSETTO:-0500
TZNAME:EST
DTSTART:20231105T060000
END:STANDARD
BEGIN:DAYLIGHT
TZOFFSETFROM:-0500
TZOFFSETTO:-0400
TZNAME:EDT
DTSTART:20240310T070000
END:DAYLIGHT
BEGIN:STANDARD
TZOFFSETFROM:-0400
TZOFFSETTO:-0500
TZNAME:EST
DTSTART:20241103T060000
END:STANDARD
BEGIN:DAYLIGHT
TZOFFSETFROM:-0500
TZOFFSETTO:-0400
TZNAME:EDT
DTSTART:20250309T070000
END:DAYLIGHT
BEGIN:STANDARD
TZOFFSETFROM:-0400
TZOFFSETTO:-0500
TZNAME:EST
DTSTART:20251102T060000
END:STANDARD
END:VTIMEZONE
BEGIN:VEVENT
DTSTART;TZID=America/Toronto:20240605T100000
DTEND;TZID=America/Toronto:20240605T110000
DTSTAMP:20260421T174706
CREATED:20240517T211934Z
LAST-MODIFIED:20240517T211934Z
UID:4666-1717581600-1717585200@ysbes.ca
SUMMARY:Better Jobs Ontario Information Session
DESCRIPTION:Join us to learn more about what Better Jobs Ontario is\, qualification criteria and how YSB Employment Services can help you in the process \nThe Better Jobs Ontario program objective is to support unemployed individuals in need of skills training to help find employment in on-demand occupations with demonstrated labour market prospects in Ontario. \nJoin us to learn about: \n\nWhat is BJO?\nWhat is the eligibility & suitability criteria?\nRequired documentation\nNext steps\n\nPlease click on RSVP below and complete the required information – The link to the event will be provided on the day of the session.
URL:https://ysbes.ca/event/better-jobs-ontario-information-session-8/
LOCATION:Virtual – Online
ORGANIZER;CN="YSB Employment Services":MAILTO:sboucher@ysb.ca
END:VEVENT
BEGIN:VEVENT
DTSTART;TZID=America/Toronto:20240618T130000
DTEND;TZID=America/Toronto:20240618T150000
DTSTAMP:20260421T174706
CREATED:20240610T174549Z
LAST-MODIFIED:20240610T182616Z
UID:4780-1718715600-1718722800@ysbes.ca
SUMMARY:Session Virtuelle de Préparation à  la Foire de l'Emploi - 18 juin
DESCRIPTION:Content is protected.
URL:https://ysbes.ca/event/sessionvirtuelle18juin/
LOCATION:Virtual – Online
ORGANIZER;CN="YSB Employment Services":MAILTO:sboucher@ysb.ca
END:VEVENT
BEGIN:VEVENT
DTSTART;TZID=America/Toronto:20240619T130000
DTEND;TZID=America/Toronto:20240619T150000
DTSTAMP:20260421T174706
CREATED:20240610T173311Z
LAST-MODIFIED:20240610T182300Z
UID:4769-1718802000-1718809200@ysbes.ca
SUMMARY:Job Fair Preparation - Virtual Session June 19
DESCRIPTION:Content is protected.
URL:https://ysbes.ca/event/jobfairprepjune19/
LOCATION:Virtual – Online
ORGANIZER;CN="YSB Employment Services":MAILTO:sboucher@ysb.ca
END:VEVENT
BEGIN:VEVENT
DTSTART;TZID=America/Toronto:20240619T140000
DTEND;TZID=America/Toronto:20240619T150000
DTSTAMP:20260421T174706
CREATED:20240605T132609Z
LAST-MODIFIED:20240606T141733Z
UID:4743-1718805600-1718809200@ysbes.ca
SUMMARY:Better Jobs Ontario Information Session
DESCRIPTION:Join us to learn more about what Better Jobs Ontario is\, qualification criteria and how YSB Employment Services can help you in the process \nThe Better Jobs Ontario program objective is to support unemployed individuals in need of skills training to help find employment in on-demand occupations with demonstrated labour market prospects in Ontario. \nJoin us to learn about: \n\nWhat is BJO?\nWhat is the eligibility & suitability criteria?\nRequired documentation\nNext steps\n\nPlease click on RSVP below and complete the required information – The link to the event will be provided on the day of the session.
URL:https://ysbes.ca/event/better-jobs-ontario-information-session-9/
LOCATION:Virtual – Online
ORGANIZER;CN="YSB Employment Services":MAILTO:sboucher@ysb.ca
END:VEVENT
BEGIN:VEVENT
DTSTART;TZID=America/Toronto:20240621T130000
DTEND;TZID=America/Toronto:20240621T150000
DTSTAMP:20260421T174706
CREATED:20240610T173709Z
LAST-MODIFIED:20240610T182326Z
UID:4777-1718974800-1718982000@ysbes.ca
SUMMARY:Job Fair Preparation - Virtual Session June 21
DESCRIPTION:Content is protected.
URL:https://ysbes.ca/event/job-fair-preparation-virtual-session-june-21/
LOCATION:Virtual – Online
ORGANIZER;CN="YSB Employment Services":MAILTO:sboucher@ysb.ca
END:VEVENT
BEGIN:VEVENT
DTSTART;TZID=America/Toronto:20240626T130000
DTEND;TZID=America/Toronto:20240626T140000
DTSTAMP:20260421T174706
CREATED:20240522T194730Z
LAST-MODIFIED:20240624T200402Z
UID:4691-1719406800-1719410400@ysbes.ca
SUMMARY:Job Fair 1PM
DESCRIPTION:The following is a short list of the the employers that will be in attendance at our Job Fair…more to come: \n\nTamir – Residential and Primary Counsellors\nCoke Canada Bottling – Merchandiser (PT/FT) – Watch video for further details: https://vimeo.com/461498439/bc39f09af3\nOttawa-Carleton District School Board – Custodians / Early Learning Assistants\nCanada Revenue Agency – Compliance Programs Branch – Various careers and create a CRA Candidate profile\nAlpha Auto Group – Technicians / Service Advisors / Sale Associates / Parts Advisor / Receptionists\nCity of Ottawa – OC Transpo – Bus Operator / Licenced Truck/Coach Mechanics / Apprentices / Special Constables \nNutri-Lawn Ottawa – Senior Sales Supervisor / Lawn Care Labourer / Lawn Care Applicator / Lighting Technician\nOld Navy – Part-time Retail Sales Associate\nMcDonald’s 6172199 Canada Inc. – Cashier / Line Cooks (Apply online first at www.mcdonalds.ca/careers )\nModern Niagara – Estimators / Project Coordinator / Project Manager / Payroll Admin / Driver / Service Coordinator / Plus more…\nStarbucks – Barista\nPower-Tek Group – Opportunities for apprenticeships in: Construction\, Electrical\, HVAC and Plumbing\nCanada Post – Various Corporate Roles\nYouth Services Bureau – Youth Workers / Psychotherapists\nAlterna Savings – Member Service Specialist / Manager\, Commercial Credit & Enterprise Risk / Branch Manager / Instructional Designer\nMontana’s BBQ & Bar. /. Kelsey’s Original Roadhouse – Server / Bartender / Line Cook / Dishwasher / Cleaner\nGOLDIE MOHR LTD – grades person / construction skilled person / traffic Control person / heavy equipment operator / Truck driver AZ\nCarpenter’s Regional Council – Interior Systems Job Readiness Candidates (Local 2041)\, General Carpenter Pre-Apprenticeship (Local 93)\nDWS Roofing and Waterproofing Services Inc. – Flat Roofing Labourers/Roofer Helpers\nThe Portia Learning Centre – ABA Instructor Therapists\nTastersHUB Catering & Events – Event planners\, Assistants\, Cooks\, Servers and cashiers\nHeritage Grade/Asbex Environmental Contractors – Collecting resumes for future employment opportunities\nNuvo Eye Centre – Patient Coordinator (Administrative Receptionist)\, Diagnostic Technician\nMatthew House Ottawa – Program Assistants at Refugee Services Program\nWork in Ottawa (Invest Ottawa) – Software Developer – C++\, Front End\, Back end \, Full stack \, FPGA Engineer\, Business Development Manager\nOttawa Marriott Hotel – Guest Services Attendant (Bell Person)\, Guest Service Agent\, Starbucks – Barista\, Bartender\nInterRent – Landscape Crew\, Property Maintenance Technicians\nIndigo Park Canada – Valet\, Attendant\, Enforcement Officer\, Area Manager\nRoyal Ottawa Health Care Group – Secretary III (bilingual)\, various health care related role\nChocolate Favoris Kanata – Team Lead and Clerk\nPhoenix Private Security Inc. – Security Guards\, Mobile Security Guards\nAutorebex Sales Service Towing – Phone Jockey\, Service Helper\, Receptionist\nC.H.E.O. – Patient Service Clerks\, Environmental Service Attendants\, Health Care Aids\, Electricians\, Plumber\, Carpenter\, Finance Clerks\, Social Workers\, Project Coordinator\, Security Guards\nCommissionaires-Ottawa – Entry Level Security Guards\nChick fil A – Chick fil A Team member\, Kitchen Lead\, Hospitality lead\nOttawa Police Services – Constable New Recruit- sworn police officers\nKitchen Spot – Fabrication/Production\, Admin\, Sales\, Marketing\, Business/Financial analysts\nAfrican Grill – Assistant cooks Help with: food prep; cutting and marinating meat; grilling meat\,  Servers help with: Prep of the condiments and sides; taking orders; Dishing up/ packing orders; serving eat in\, keeping dining area clean.\nEDMS Dental Inc. – SQL developer\, Data Analyst\, Front End Developer\nSt Vincent De Paul thrift stores – Warehouse workers\nTunkas Fashion – Cashier / Sales\nMr. Rooter Plumbing & Bytown Better Bathtubs and Shower – Pumper Truck Operator\, Plumbing Apprentice\, Licensed Plumber\, Assistant Bathroom Renovator
URL:https://ysbes.ca/event/job-fair-1pm/
LOCATION:Jim Durrell Recreation Centre\, 1265 Walkley Rd\, Ottawa\, Ontario\, K1V 6P9\, Canada
ORGANIZER;CN="YSB Employment Services":MAILTO:sboucher@ysb.ca
END:VEVENT
BEGIN:VEVENT
DTSTART;TZID=America/Toronto:20240626T140000
DTEND;TZID=America/Toronto:20240626T150000
DTSTAMP:20260421T174706
CREATED:20240522T195741Z
LAST-MODIFIED:20240624T200424Z
UID:4699-1719410400-1719414000@ysbes.ca
SUMMARY:Job Fair 2PM
DESCRIPTION:The following is a short list of the the employers that will be in attendance at our Job Fair…more to come: \n\nTamir – Residential and Primary Counsellors\nCoke Canada Bottling – Merchandiser (PT/FT) – Watch video for further details: https://vimeo.com/461498439/bc39f09af3\nOttawa-Carleton District School Board – Custodians / Early Learning Assistants\nCanada Revenue Agency – Compliance Programs Branch – Various careers and create a CRA Candidate profile\nAlpha Auto Group – Technicians / Service Advisors / Sale Associates / Parts Advisor / Receptionists\nCity of Ottawa – OC Transpo – Bus Operator / Licenced Truck/Coach Mechanics / Apprentices / Special Constables \nNutri-Lawn Ottawa – Senior Sales Supervisor / Lawn Care Labourer / Lawn Care Applicator / Lighting Technician\nOld Navy – Part-time Retail Sales Associate\nMcDonald’s 6172199 Canada Inc. – Cashier / Line Cooks (Apply online first at www.mcdonalds.ca/careers )\nModern Niagara – Estimators / Project Coordinator / Project Manager / Payroll Admin / Driver / Service Coordinator / Plus more…\nStarbucks – Barista\nPower-Tek Group – Opportunities for apprenticeships in: Construction\, Electrical\, HVAC and Plumbing\nCanada Post – Various Corporate Roles\nYouth Services Bureau – Youth Workers / Psychotherapists\nAlterna Savings – Member Service Specialist / Manager\, Commercial Credit & Enterprise Risk / Branch Manager / Instructional Designer\nMontana’s BBQ & Bar. /. Kelsey’s Original Roadhouse – Server / Bartender / Line Cook / Dishwasher / Cleaner\nGOLDIE MOHR LTD – grades person / construction skilled person / traffic Control person / heavy equipment operator / Truck driver AZ\nCarpenter’s Regional Council – Interior Systems Job Readiness Candidates (Local 2041)\, General Carpenter Pre-Apprenticeship (Local 93)\nDWS Roofing and Waterproofing Services Inc. – Flat Roofing Labourers/Roofer Helpers\nThe Portia Learning Centre – ABA Instructor Therapists\nTastersHUB Catering & Events – Event planners\, Assistants\, Cooks\, Servers and cashiers\nHeritage Grade/Asbex Environmental Contractors – Collecting resumes for future employment opportunities\nNuvo Eye Centre – Patient Coordinator (Administrative Receptionist)\, Diagnostic Technician\nMatthew House Ottawa – Program Assistants at Refugee Services Program\nWork in Ottawa (Invest Ottawa) – Software Developer – C++\, Front End\, Back end \, Full stack \, FPGA Engineer\, Business Development Manager\nOttawa Marriott Hotel – Guest Services Attendant (Bell Person)\, Guest Service Agent\, Starbucks – Barista\, Bartender\nInterRent – Landscape Crew\, Property Maintenance Technicians\nIndigo Park Canada – Valet\, Attendant\, Enforcement Officer\, Area Manager\nRoyal Ottawa Health Care Group – Secretary III (bilingual)\, various health care related role\nChocolate Favoris Kanata – Team Lead and Clerk\nPhoenix Private Security Inc. – Security Guards\, Mobile Security Guards\nAutorebex Sales Service Towing – Phone Jockey\, Service Helper\, Receptionist\nC.H.E.O. – Patient Service Clerks\, Environmental Service Attendants\, Health Care Aids\, Electricians\, Plumber\, Carpenter\, Finance Clerks\, Social Workers\, Project Coordinator\, Security Guards\nCommissionaires-Ottawa – Entry Level Security Guards\nChick fil A – Chick fil A Team member\, Kitchen Lead\, Hospitality lead\nOttawa Police Services – Constable New Recruit- sworn police officers\nKitchen Spot – Fabrication/Production\, Admin\, Sales\, Marketing\, Business/Financial analysts\nAfrican Grill – Assistant cooks Help with: food prep; cutting and marinating meat; grilling meat\,  Servers help with: Prep of the condiments and sides; taking orders; Dishing up/ packing orders; serving eat in\, keeping dining area clean.\nEDMS Dental Inc. – SQL developer\, Data Analyst\, Front End Developer\nSt Vincent De Paul thrift stores – Warehouse workers\nTunkas Fashion – Cashier / Sales\nMr. Rooter Plumbing & Bytown Better Bathtubs and Shower – Pumper Truck Operator\, Plumbing Apprentice\, Licensed Plumber\, Assistant Bathroom Renovator
URL:https://ysbes.ca/event/job-fair-2pm/
LOCATION:Jim Durrell Recreation Centre\, 1265 Walkley Rd\, Ottawa\, Ontario\, K1V 6P9\, Canada
ORGANIZER;CN="YSB Employment Services":MAILTO:sboucher@ysb.ca
END:VEVENT
BEGIN:VEVENT
DTSTART;TZID=America/Toronto:20240626T150000
DTEND;TZID=America/Toronto:20240626T160000
DTSTAMP:20260421T174706
CREATED:20240522T200121Z
LAST-MODIFIED:20240624T202006Z
UID:4702-1719414000-1719417600@ysbes.ca
SUMMARY:Job Fair - General Public
DESCRIPTION:The following is a short list of the the employers that will be in attendance at our Job Fair…more to come: \n\nTamir – Residential and Primary Counsellors\nCoke Canada Bottling – Merchandiser (PT/FT) – Watch video for further details: https://vimeo.com/461498439/bc39f09af3\nOttawa-Carleton District School Board – Custodians / Early Learning Assistants\nCanada Revenue Agency – Compliance Programs Branch – Various careers and create a CRA Candidate profile\nAlpha Auto Group – Technicians / Service Advisors / Sale Associates / Parts Advisor / Receptionists\nCity of Ottawa – OC Transpo – Bus Operator / Licenced Truck/Coach Mechanics / Apprentices / Special Constables \nNutri-Lawn Ottawa – Senior Sales Supervisor / Lawn Care Labourer / Lawn Care Applicator / Lighting Technician\nOld Navy – Part-time Retail Sales Associate\nMcDonald’s 6172199 Canada Inc. – Cashier / Line Cooks (Apply online first at www.mcdonalds.ca/careers )\nModern Niagara – Estimators / Project Coordinator / Project Manager / Payroll Admin / Driver / Service Coordinator / Plus more…\nStarbucks – Barista\nPower-Tek Group – Opportunities for apprenticeships in: Construction\, Electrical\, HVAC and Plumbing\nCanada Post – Various Corporate Roles\nYouth Services Bureau – Youth Workers / Psychotherapists\nAlterna Savings – Member Service Specialist / Manager\, Commercial Credit & Enterprise Risk / Branch Manager / Instructional Designer\nMontana’s BBQ & Bar. /. Kelsey’s Original Roadhouse – Server / Bartender / Line Cook / Dishwasher / Cleaner\nGOLDIE MOHR LTD – grades person / construction skilled person / traffic Control person / heavy equipment operator / Truck driver AZ\nCarpenter’s Regional Council – Interior Systems Job Readiness Candidates (Local 2041)\, General Carpenter Pre-Apprenticeship (Local 93)\nDWS Roofing and Waterproofing Services Inc. – Flat Roofing Labourers/Roofer Helpers\nThe Portia Learning Centre – ABA Instructor Therapists\nTastersHUB Catering & Events – Event planners\, Assistants\, Cooks\, Servers and cashiers \nHeritage Grade/Asbex Environmental Contractors – Collecting resumes for future employment opportunities\nNuvo Eye Centre – Patient Coordinator (Administrative Receptionist)\, Diagnostic Technician\nMatthew House Ottawa – Program Assistants at Refugee Services Program\nOttawa Marriott Hotel – Guest Services Attendant (Bell Person)\, Guest Service Agent\, Starbucks – Barista\, Bartender\nInterRent – Landscape Crew\, Property Maintenance Technicians\nIndigo Park Canada – Valet\, Attendant\, Enforcement Officer\, Area Manager\nRoyal Ottawa Health Care Group – Secretary III (bilingual)\, various health care related role\nChocolate Favoris Kanata – Team Lead and Clerk\nPhoenix Private Security Inc. – Security Guards\, Mobile Security Guards\nAutorebex Sales Service Towing – Phone Jockey\, Service Helper\, Receptionist\nC.H.E.O. – Patient Service Clerks\, Environmental Service Attendants\, Health Care Aids\, Electricians\, Plumber\, Carpenter\, Finance Clerks\, Social Workers\, Project Coordinator\, Security Guards\nCommissionaires-Ottawa – Entry Level Security Guards\nChick fil A – Chick fil A Team member\, Kitchen Lead\, Hospitality lead\nOttawa Police Services – Constable New Recruit- sworn police officers\nKitchen Spot – Fabrication/Production\, Admin\, Sales\, Marketing\, Business/Financial analysts\nAfrican Grill – Assistant cooks Help with: food prep; cutting and marinating meat; grilling meat\,  Servers help with: Prep of the condiments and sides; taking orders; Dishing up/ packing orders; serving eat in\, keeping dining area clean.\nEDMS Dental Inc. – SQL developer\, Data Analyst\, Front End Developer\nSt Vincent De Paul thrift stores – Warehouse workers\nTunkas Fashion – Cashier / Sales\nMr. Rooter Plumbing & Bytown Better Bathtubs and Shower – Pumper Truck Operator\, Plumbing Apprentice\, Licensed Plumber\, Assistant Bathroom Renovator
URL:https://ysbes.ca/event/job-fair-general-public/
LOCATION:Jim Durrell Recreation Centre\, 1265 Walkley Rd\, Ottawa\, Ontario\, K1V 6P9\, Canada
ORGANIZER;CN="YSB Employment Services":MAILTO:sboucher@ysb.ca
END:VEVENT
END:VCALENDAR