BEGIN:VCALENDAR
VERSION:2.0
PRODID:-//YSB Employment Services d&#039;emploi du BSJ - ECPv6.15.20//NONSGML v1.0//EN
CALSCALE:GREGORIAN
METHOD:PUBLISH
X-ORIGINAL-URL:https://ysbes.ca
X-WR-CALDESC:Events for YSB Employment Services d&#039;emploi du BSJ
REFRESH-INTERVAL;VALUE=DURATION:PT1H
X-Robots-Tag:noindex
X-PUBLISHED-TTL:PT1H
BEGIN:VTIMEZONE
TZID:America/Toronto
BEGIN:DAYLIGHT
TZOFFSETFROM:-0500
TZOFFSETTO:-0400
TZNAME:EDT
DTSTART:20230312T070000
END:DAYLIGHT
BEGIN:STANDARD
TZOFFSETFROM:-0400
TZOFFSETTO:-0500
TZNAME:EST
DTSTART:20231105T060000
END:STANDARD
BEGIN:DAYLIGHT
TZOFFSETFROM:-0500
TZOFFSETTO:-0400
TZNAME:EDT
DTSTART:20240310T070000
END:DAYLIGHT
BEGIN:STANDARD
TZOFFSETFROM:-0400
TZOFFSETTO:-0500
TZNAME:EST
DTSTART:20241103T060000
END:STANDARD
BEGIN:DAYLIGHT
TZOFFSETFROM:-0500
TZOFFSETTO:-0400
TZNAME:EDT
DTSTART:20250309T070000
END:DAYLIGHT
BEGIN:STANDARD
TZOFFSETFROM:-0400
TZOFFSETTO:-0500
TZNAME:EST
DTSTART:20251102T060000
END:STANDARD
END:VTIMEZONE
BEGIN:VEVENT
DTSTART;TZID=America/Toronto:20240313T100000
DTEND;TZID=America/Toronto:20240313T110000
DTSTAMP:20260421T235006
CREATED:20240216T192635Z
LAST-MODIFIED:20240216T192958Z
UID:2731-1710324000-1710327600@ysbes.ca
SUMMARY:Better Jobs Ontario Information Session
DESCRIPTION:Join us to learn more about what Better Jobs Ontario is\, qualification criteria and how YSB Employment Services can help you in the process. \nThe Better Jobs Ontario program objective is to support unemployed individuals in need of skills training to help find employment in on-demand occupations with demonstrated labour market prospects in Ontario. \nJoin us to learn about: \n\nWhat is BJO?\nWhat is the eligibility & suitability criteria?\nRequired documentation\nNext steps\n\nRegister at https://www.eventbrite.ca/e/better-jobs-ontario-information-session-tickets-841781439947
URL:https://ysbes.ca/event/better-jobs-ontario-information-session-2/
LOCATION:Virtual – Online
CATEGORIES:Job Search Workshops
ORGANIZER;CN="YSB Employment Services":MAILTO:sboucher@ysb.ca
END:VEVENT
BEGIN:VEVENT
DTSTART;TZID=America/Toronto:20240321T130000
DTEND;TZID=America/Toronto:20240321T160000
DTSTAMP:20260421T235006
CREATED:20240305T211757Z
LAST-MODIFIED:20240321T165226Z
UID:2975-1711026000-1711036800@ysbes.ca
SUMMARY:Myers Automotive Group - In Person Job Fair
DESCRIPTION:Are you looking to get involved with an automotive dealership that offers the right incentives and places the right emphasis on customer-facing service that comes with expert\, friendly advice? If you are a passionate automotive expert with technical skills or you want to be a salesperson that appreciates and understands how to interact with people and provide the top-notch assistance that has made Myers Automotive Group the best of its kind\, then we want to hear from you! \nAt Myers\, we value equity\, diversity and inclusion in all its forms\, and this starts with having diverse colleagues. We encourage applications from all qualified candidates\, who represent the full diversity of communities across Canada. We are committed to providing inclusive\, barrier-free recruitment and selection processes and a work environment that supports our diverse workforce. \nRSVP to meet the Hiring Managers from all the Myers locations across the city!
URL:https://ysbes.ca/event/myers-automotive-group-in-person-job-fair/
LOCATION:YSB Employment Services SOUTH/EAST\, 703-1355 Bank Street\, Ottawa\, Ontario\, K1H 8K7\, Canada
ORGANIZER;CN="YSB Employment Services":MAILTO:sboucher@ysb.ca
END:VEVENT
BEGIN:VEVENT
DTSTART;TZID=America/Toronto:20240327T130000
DTEND;TZID=America/Toronto:20240327T140000
DTSTAMP:20260421T235006
CREATED:20240223T204737Z
LAST-MODIFIED:20240228T154002Z
UID:2785-1711544400-1711548000@ysbes.ca
SUMMARY:Canada Revenue Agency Information Session - ENGLISH Session
DESCRIPTION:Attend our information session to find out how to work with the CRA! Follow along with us as we show you how to create your candidate profile and discuss the opportunities there are at the CRA. \n  \nThe Canada Revenue Agency (CRA) is dedicated to delivering a world-class tax and benefit administration that is responsive\, effective\, and trusted by Canadians. At the heart of the endeavor is the Compliance Programs Branch (CPB)\, which adopts a service-oriented approach to educate\, inform\, and support the distinct needs of taxpayers in fulfilling their tax obligations. Our emphasis on transparency and technical accuracy safeguards the integrity of the Canadian tax system\, addressing tax evasion and aggressive tax avoidance on both domestic and international fronts. Our multi-faceted risk-based strategy ensures fair participation in the tax system and fosters trust among Canadians. \nA link will be sent to your email the morning of the event!
URL:https://ysbes.ca/event/canada-revenue-agency-information-session/
LOCATION:Virtual – Online
ORGANIZER;CN="YSB Employment Services":MAILTO:sboucher@ysb.ca
END:VEVENT
BEGIN:VEVENT
DTSTART;TZID=America/Toronto:20240327T140000
DTEND;TZID=America/Toronto:20240327T150000
DTSTAMP:20260421T235006
CREATED:20240216T192835Z
LAST-MODIFIED:20240315T150828Z
UID:2733-1711548000-1711551600@ysbes.ca
SUMMARY:Better Jobs Ontario Information Session
DESCRIPTION:Join us to learn more about what Better Jobs Ontario is\, qualification criteria and how YSB Employment Services can help you in the process \nThe Better Jobs Ontario program objective is to support unemployed individuals in need of skills training to help find employment in on-demand occupations with demonstrated labour market prospects in Ontario. \nJoin us to learn about: \n\nWhat is BJO?\nWhat is the eligibility & suitability criteria?\nRequired documentation\nNext steps\n\nRegister at: https://www.eventbrite.ca/e/better-jobs-ontario-information-session-tickets-841783094897
URL:https://ysbes.ca/event/better-jobs-ontario-information-session-3/
LOCATION:Virtual – Online
CATEGORIES:Job Search Workshops
END:VEVENT
BEGIN:VEVENT
DTSTART;TZID=America/Toronto:20240327T140000
DTEND;TZID=America/Toronto:20240327T150000
DTSTAMP:20260421T235006
CREATED:20240226T154204Z
LAST-MODIFIED:20240226T215749Z
UID:2802-1711548000-1711551600@ysbes.ca
SUMMARY:Séance d'information de l'Agence du revenu du Canada - Session en français
DESCRIPTION:Assistez à  notre séance d’information pour découvrir comment travailler avec l’Agence du revenu du Canada (ARC) ! Suivez-nous alors que nous vous montrons comment créer votre profil de candidat et discutons des opportunités offertes à  l’ARC. \nL’Agence du revenu du Canada (ARC) s’engage à  fournir une administration fiscale et des prestations de classe mondiale\, réactive\, efficace et digne de confiance pour les Canadiens. Au cœur de cet effort se trouve la Direction des programmes de conformité (DPC)\, qui adopte une approche axée sur le service pour éduquer\, informer et soutenir les besoins distincts des contribuables dans l’accomplissement de leurs obligations fiscales. Notre accent sur la transparence et la précision technique protège l’intégrité du système fiscal canadien\, abordant l’évasion fiscale et l’évitement fiscal agressif tant sur le plan national qu’international. Notre stratégie multicouche basée sur les risques assure une participation équitable dans le système fiscal et favorise la confiance parmi les Canadiens. \n\n\n\n\n\n\n\n\n\n\n\n\nUn lien vous sera envoyé par courriel le matin de l’événement !
URL:https://ysbes.ca/event/seance-dinformation-de-lagence-du-revenu-du-canada-session-en-francais/
LOCATION:Virtual – Online
ORGANIZER;CN="YSB Employment Services":MAILTO:sboucher@ysb.ca
END:VEVENT
BEGIN:VEVENT
DTSTART;TZID=America/Toronto:20240328T133000
DTEND;TZID=America/Toronto:20240328T150000
DTSTAMP:20260421T235006
CREATED:20240319T183036Z
LAST-MODIFIED:20240319T183036Z
UID:3257-1711632600-1711638000@ysbes.ca
SUMMARY:Pad Pal Recruitment Event
DESCRIPTION:Summer Employment \nStart Date: April 02\, 2024 \nRegular Hours of Operation: 7am-4pm or 5:30pm-8:30pm \nLocation: Across the city (East\, West\, South and Downtown) \nCompensation: $20 – $25 / Hour \nNo prior experience required; training will be provided \nAs a Home Services Specialist at Pad Pal\, you will play a crucial role in both the operational and client-facing aspects of our business. This position offers a unique opportunity to gain hands-on experience in home maintenance services while also developing valuable sales and customer service skills. Ideal candidates are energetic\, motivated students looking to learn and grow in a dynamic\, outdoor work environment. \nSales and Customer Interaction: \n\nEngage with potential clients through door-to-door interactions\, phone calls\, and digital communication.\nGenerate quotes for services based on client needs and property assessment.\nClose deals by effectively communicating the value and benefits of our services.\nMaintain positive relationships with existing clients\, ensuring their satisfaction and encouraging repeat business.\n\nService Execution: \n\nPerform a variety of home services\, including gutter cleaning\, window cleaning\, holiday lighting installation and removal\, asphalt sealing\, gutter guards installation\, and lawn aeration.\nEnsure all services are completed to Pad Pal’s standards of quality and safety.\nManage scheduling and timely execution of services.\nUse and maintain equipment properly and safely.\n\nTraining: \n\nComprehensive training on all services offered by Pad Pal.\nSales and customer service training to enhance interaction and negotiation skills.\nSafety training to ensure all tasks are performed in a secure manner.\n\nQualifications: \n\nExcellent communication and interpersonal skills.\nAbility to work independently and in a team environment.\nStrong work ethic and willingness to learn.\nPhysical ability to perform outdoor and manual tasks.\n\nPlease click here to schedule your interview time.
URL:https://ysbes.ca/event/pad-pal-recruitment-event/
LOCATION:YSB Employment Services SOUTH/EAST\, 703-1355 Bank Street\, Ottawa\, Ontario\, K1H 8K7\, Canada
CATEGORIES:Job Search Workshops
ORGANIZER;CN="YSB Employment Services":MAILTO:sboucher@ysb.ca
END:VEVENT
END:VCALENDAR