BEGIN:VCALENDAR
VERSION:2.0
PRODID:-//YSB Employment Services d&#039;emploi du BSJ - ECPv6.15.20//NONSGML v1.0//EN
CALSCALE:GREGORIAN
METHOD:PUBLISH
X-WR-CALNAME:YSB Employment Services d&#039;emploi du BSJ
X-ORIGINAL-URL:https://ysbes.ca
X-WR-CALDESC:Events for YSB Employment Services d&#039;emploi du BSJ
REFRESH-INTERVAL;VALUE=DURATION:PT1H
X-Robots-Tag:noindex
X-PUBLISHED-TTL:PT1H
BEGIN:VTIMEZONE
TZID:America/Toronto
BEGIN:DAYLIGHT
TZOFFSETFROM:-0500
TZOFFSETTO:-0400
TZNAME:EDT
DTSTART:20220313T070000
END:DAYLIGHT
BEGIN:STANDARD
TZOFFSETFROM:-0400
TZOFFSETTO:-0500
TZNAME:EST
DTSTART:20221106T060000
END:STANDARD
BEGIN:DAYLIGHT
TZOFFSETFROM:-0500
TZOFFSETTO:-0400
TZNAME:EDT
DTSTART:20230312T070000
END:DAYLIGHT
BEGIN:STANDARD
TZOFFSETFROM:-0400
TZOFFSETTO:-0500
TZNAME:EST
DTSTART:20231105T060000
END:STANDARD
BEGIN:DAYLIGHT
TZOFFSETFROM:-0500
TZOFFSETTO:-0400
TZNAME:EDT
DTSTART:20240310T070000
END:DAYLIGHT
BEGIN:STANDARD
TZOFFSETFROM:-0400
TZOFFSETTO:-0500
TZNAME:EST
DTSTART:20241103T060000
END:STANDARD
END:VTIMEZONE
BEGIN:VEVENT
DTSTART;TZID=America/Toronto:20231012T133000
DTEND;TZID=America/Toronto:20231012T160000
DTSTAMP:20260422T093720
CREATED:20230926T145001Z
LAST-MODIFIED:20231004T192642Z
UID:2581-1697117400-1697126400@ysbes.ca
SUMMARY:TECH Recruitment Event
DESCRIPTION:Please click here to register for the TECH Recruitment Event. \nHere are the current employers attending: \n\n\n\nRegistered Companies\nIndustry\n\n\nCommunications Security Establishment\nGovernment – Security\n\n\nField Effect\nSecurity / Sécurité\n\n\nSanmina\nDesign Engineering – Microelectronics\, RF\, Optical\, Mechanical\n\n\nG-TAC\nSoftware / Logiciels
URL:https://ysbes.ca/event/save-the-date-tech-recruitment-event/
LOCATION:Ontario
CATEGORIES:Job Search Workshops
ORGANIZER;CN="YSB Employment Services":MAILTO:sboucher@ysb.ca
END:VEVENT
BEGIN:VEVENT
DTSTART;TZID=America/Toronto:20231017T130000
DTEND;TZID=America/Toronto:20231017T140000
DTSTAMP:20260422T093720
CREATED:20230811T140202Z
LAST-MODIFIED:20231016T170229Z
UID:2515-1697547600-1697551200@ysbes.ca
SUMMARY:Better Jobs Ontario (Formerly Second Career) Information Session
DESCRIPTION:Better Jobs Ontario helps you train for a new job. It provides financial support to help eligible Ontarians participate in training for a new career. This on-line session will explain the Better Jobs Ontario program\, who can apply\, what kind of supports are available and how to begin the process. \nPlease click here to register for this event.
URL:https://ysbes.ca/event/better-jobs-ontario-formerly-second-career-information-session-21/
LOCATION:Online Teams Event
CATEGORIES:Job Search Workshops
ORGANIZER;CN="YSB Employment Services":MAILTO:sboucher@ysb.ca
END:VEVENT
END:VCALENDAR