BEGIN:VCALENDAR
VERSION:2.0
PRODID:-//YSB Employment Services d&#039;emploi du BSJ - ECPv6.15.20//NONSGML v1.0//EN
CALSCALE:GREGORIAN
METHOD:PUBLISH
X-WR-CALNAME:YSB Employment Services d&#039;emploi du BSJ
X-ORIGINAL-URL:https://ysbes.ca
X-WR-CALDESC:Events for YSB Employment Services d&#039;emploi du BSJ
REFRESH-INTERVAL;VALUE=DURATION:PT1H
X-Robots-Tag:noindex
X-PUBLISHED-TTL:PT1H
BEGIN:VTIMEZONE
TZID:America/Toronto
BEGIN:DAYLIGHT
TZOFFSETFROM:-0500
TZOFFSETTO:-0400
TZNAME:EDT
DTSTART:20220313T070000
END:DAYLIGHT
BEGIN:STANDARD
TZOFFSETFROM:-0400
TZOFFSETTO:-0500
TZNAME:EST
DTSTART:20221106T060000
END:STANDARD
BEGIN:DAYLIGHT
TZOFFSETFROM:-0500
TZOFFSETTO:-0400
TZNAME:EDT
DTSTART:20230312T070000
END:DAYLIGHT
BEGIN:STANDARD
TZOFFSETFROM:-0400
TZOFFSETTO:-0500
TZNAME:EST
DTSTART:20231105T060000
END:STANDARD
BEGIN:DAYLIGHT
TZOFFSETFROM:-0500
TZOFFSETTO:-0400
TZNAME:EDT
DTSTART:20240310T070000
END:DAYLIGHT
BEGIN:STANDARD
TZOFFSETFROM:-0400
TZOFFSETTO:-0500
TZNAME:EST
DTSTART:20241103T060000
END:STANDARD
END:VTIMEZONE
BEGIN:VEVENT
DTSTART;TZID=America/Toronto:20230912T100000
DTEND;TZID=America/Toronto:20230912T110000
DTSTAMP:20260422T112110
CREATED:20230811T135514Z
LAST-MODIFIED:20230811T135514Z
UID:2513-1694512800-1694516400@ysbes.ca
SUMMARY:Better Jobs Ontario (Formerly Second Career) Information Session
DESCRIPTION:Better Jobs Ontario helps you train for a new job. It provides financial support to help eligible Ontarians participate in training for a new career. This on-line session will explain the Better Jobs Ontario program\, who can apply\, what kind of supports are available and how to begin the process. \nPlease click here to register for this event.
URL:https://ysbes.ca/event/better-jobs-ontario-formerly-second-career-information-session-20/
LOCATION:Online Teams Event
CATEGORIES:Job Search Workshops
ORGANIZER;CN="YSB Employment Services":MAILTO:sboucher@ysb.ca
END:VEVENT
BEGIN:VEVENT
DTSTART;TZID=America/Toronto:20230914T133000
DTEND;TZID=America/Toronto:20230914T160000
DTSTAMP:20260422T112110
CREATED:20230912T173729Z
LAST-MODIFIED:20230912T173729Z
UID:2569-1694698200-1694707200@ysbes.ca
SUMMARY:Multi Employer Job Fair
DESCRIPTION:REGISTER HERE! \nWe are looking forward to meeting you at our upcoming Multi Employer Job Fair on September 14\, 2023 from 1:30pm to 4pm. \nHere is an ever growing list of employers that will be in attendance to meet with you in person: \n\nDelta Hotel & Westin Ottawa\nThe McCluskey Group – Tim Hortons\nComforcare\nMyers Barrhaven Volkswagen\nMcDonald’s (Carling\, Glebe\, Baseline\, Hogs Back\, Merivale\, Bronson)\nAfrotechture\nBell/ Virgin Plus/ The Source\nSienna Senior Living\nThe Ottawa Hospital\nThe Children’s Hospital of Eastern Ontario\nOttawa Carleton District School Board\nHard Rock Ottawa\nYouth Services Bureau of Ottawa\nLone Star Texas Grill\nMontana’s – Across Ottawa\nKelsey’s South Keys\nMilestones – Sussex  & Kanata\nOttawa Garlic\nBoyer & Boyer\, CPA\nMcDonalds (Hunt Club\, Walkey\, Findlay Creek)\nMyers Automotive Group\nLucent Marketing Group Inc.\nThe Portia Learning Centre\n\nPlease do not forget to register for this event using the links above. You can also connect with us beforehand by calling 613.236.8244 or emailing to learn more about what free employment/education services that we offer job seekers. \nThank you and we hope to see you on September 14th at 1:30pm
URL:https://ysbes.ca/event/multi-employer-job-fair-3/
LOCATION:RA Centre\, 2451 Riverside Dr\, Ottawa\, Ontario\, K1H7X7\, Canada
CATEGORIES:Job Search Workshops
ORGANIZER;CN="YSB Employment Services":MAILTO:sboucher@ysb.ca
END:VEVENT
BEGIN:VEVENT
DTSTART;TZID=America/Toronto:20230921T133000
DTEND;TZID=America/Toronto:20230921T143000
DTSTAMP:20260422T112110
CREATED:20230911T155832Z
LAST-MODIFIED:20230911T155916Z
UID:2555-1695303000-1695306600@ysbes.ca
SUMMARY:LRO Staffing - Information Session
DESCRIPTION:In-person Information Session: Come learn about LRO Staffing and meet their Technology Senior Account Executive \nWhy choose LRO Staffing over other placement firms? Since 2005\, we have worked hard to build a vast network of clients that recognize our expertise and trust our process. In turn\, when these companies require talent\, LRO Staffing is their valued partner. \nChoosing our team to assist in searching for your next position means finding work quickly\, receiving competitive compensation\, and a constant commitment to candidate satisfaction. \nPlease click here to register to this event.
URL:https://ysbes.ca/event/lro-staffing-information-session/
LOCATION:Ontario
CATEGORIES:Job Search Workshops
ORGANIZER;CN="YSB Employment Services":MAILTO:sboucher@ysb.ca
END:VEVENT
END:VCALENDAR