BEGIN:VCALENDAR
VERSION:2.0
PRODID:-//YSB Employment Services d&#039;emploi du BSJ - ECPv6.15.20//NONSGML v1.0//EN
CALSCALE:GREGORIAN
METHOD:PUBLISH
X-WR-CALNAME:YSB Employment Services d&#039;emploi du BSJ
X-ORIGINAL-URL:https://ysbes.ca
X-WR-CALDESC:Events for YSB Employment Services d&#039;emploi du BSJ
REFRESH-INTERVAL;VALUE=DURATION:PT1H
X-Robots-Tag:noindex
X-PUBLISHED-TTL:PT1H
BEGIN:VTIMEZONE
TZID:America/Toronto
BEGIN:DAYLIGHT
TZOFFSETFROM:-0500
TZOFFSETTO:-0400
TZNAME:EDT
DTSTART:20220313T070000
END:DAYLIGHT
BEGIN:STANDARD
TZOFFSETFROM:-0400
TZOFFSETTO:-0500
TZNAME:EST
DTSTART:20221106T060000
END:STANDARD
BEGIN:DAYLIGHT
TZOFFSETFROM:-0500
TZOFFSETTO:-0400
TZNAME:EDT
DTSTART:20230312T070000
END:DAYLIGHT
BEGIN:STANDARD
TZOFFSETFROM:-0400
TZOFFSETTO:-0500
TZNAME:EST
DTSTART:20231105T060000
END:STANDARD
BEGIN:DAYLIGHT
TZOFFSETFROM:-0500
TZOFFSETTO:-0400
TZNAME:EDT
DTSTART:20240310T070000
END:DAYLIGHT
BEGIN:STANDARD
TZOFFSETFROM:-0400
TZOFFSETTO:-0500
TZNAME:EST
DTSTART:20241103T060000
END:STANDARD
END:VTIMEZONE
BEGIN:VEVENT
DTSTART;TZID=America/Toronto:20230701T083000
DTEND;TZID=America/Toronto:20230701T163000
DTSTAMP:20260422T153315
CREATED:20230426T162512Z
LAST-MODIFIED:20230426T162512Z
UID:2220-1688200200-1688229000@ysbes.ca
SUMMARY:Happy Canada Day
DESCRIPTION:
URL:https://ysbes.ca/event/happy-canada-day-2/
LOCATION:Ontario
CATEGORIES:Job Search Workshops
END:VEVENT
BEGIN:VEVENT
DTSTART;TZID=America/Toronto:20230703T083000
DTEND;TZID=America/Toronto:20230703T163000
DTSTAMP:20260422T153315
CREATED:20230426T161952Z
LAST-MODIFIED:20230426T161952Z
UID:2214-1688373000-1688401800@ysbes.ca
SUMMARY:Office Closed for the Canada Day Holiday
DESCRIPTION:
URL:https://ysbes.ca/event/office-closed-for-the-canada-day-holiday/
LOCATION:Ontario
CATEGORIES:Job Search Workshops
ORGANIZER;CN="YSB Employment Services":MAILTO:sboucher@ysb.ca
END:VEVENT
BEGIN:VEVENT
DTSTART;TZID=America/Toronto:20230710T150000
DTEND;TZID=America/Toronto:20230710T160000
DTSTAMP:20260422T153315
CREATED:20230426T160440Z
LAST-MODIFIED:20230426T160440Z
UID:2196-1689001200-1689004800@ysbes.ca
SUMMARY:Job Search Café - Bank Street Location
DESCRIPTION:Come and join your Job Development and Outreach Team to discuss how we can support you with your job search. \nPlease note\, these sessions are offered inclusively for YSBES and :ITO2.0 registered clients.    Please contact your Employment Counsellor to receive the link to register to this session. \nWant to register with us\, please contact us at 613.236.8244 or esreception@ysb.ca.
URL:https://ysbes.ca/event/job-search-cafe-bank-street-location-7/
LOCATION:Ontario
CATEGORIES:Job Search Workshops
ORGANIZER;CN="YSB Employment Services":MAILTO:sboucher@ysb.ca
END:VEVENT
BEGIN:VEVENT
DTSTART;TZID=America/Toronto:20230711T133000
DTEND;TZID=America/Toronto:20230711T143000
DTSTAMP:20260422T153315
CREATED:20230424T151011Z
LAST-MODIFIED:20230424T151011Z
UID:2131-1689082200-1689085800@ysbes.ca
SUMMARY:How Employers See Your Resume and Cover Letter
DESCRIPTION:Having a resume that is effective and that stands out amongst the hundreds of applicants is critical in today’s job market. This virtual session covers what every resume should contain to stand out.  The session also includes how to create a great first impression with your cover letter. \nPlease click here to register for this event.
URL:https://ysbes.ca/event/how-employers-see-your-resume-and-cover-letter-26/
LOCATION:Online Teams Event
CATEGORIES:Job Search Workshops
ORGANIZER;CN="YSB Employment Services":MAILTO:sboucher@ysb.ca
END:VEVENT
BEGIN:VEVENT
DTSTART;TZID=America/Toronto:20230717T150000
DTEND;TZID=America/Toronto:20230717T160000
DTSTAMP:20260422T153315
CREATED:20230426T160615Z
LAST-MODIFIED:20230426T160615Z
UID:2198-1689606000-1689609600@ysbes.ca
SUMMARY:Job Search Café - Bank Street Location
DESCRIPTION:Come and join your Job Development and Outreach Team to discuss how we can support you with your job search. \nPlease note\, these sessions are offered inclusively for YSBES and :ITO2.0 registered clients.    Please contact your Employment Counsellor to receive the link to register to this session. \nWant to register with us\, please contact us at 613.236.8244 or esreception@ysb.ca.
URL:https://ysbes.ca/event/job-search-cafe-bank-street-location-8/
LOCATION:Ontario
CATEGORIES:Job Search Workshops
ORGANIZER;CN="YSB Employment Services":MAILTO:sboucher@ysb.ca
END:VEVENT
BEGIN:VEVENT
DTSTART;TZID=America/Toronto:20230718T133000
DTEND;TZID=America/Toronto:20230718T143000
DTSTAMP:20260422T153315
CREATED:20230426T154135Z
LAST-MODIFIED:20230426T154135Z
UID:2180-1689687000-1689690600@ysbes.ca
SUMMARY:Better Jobs Ontario (Formerly Second Career) Information Session
DESCRIPTION:Better Jobs Ontario helps you train for a new job. It provides financial support to help eligible Ontarians participate in training for a new career. This on-line session will explain the Better Jobs Ontario program\, who can apply\, what kind of supports are available and how to begin the process. \nPlease click here to register for this event.
URL:https://ysbes.ca/event/better-jobs-ontario-formerly-second-career-information-session-18/
LOCATION:Online Teams Event
CATEGORIES:Job Search Workshops
ORGANIZER;CN="YSB Employment Services":MAILTO:sboucher@ysb.ca
END:VEVENT
BEGIN:VEVENT
DTSTART;TZID=America/Toronto:20230724T150000
DTEND;TZID=America/Toronto:20230724T160000
DTSTAMP:20260422T153315
CREATED:20230426T160747Z
LAST-MODIFIED:20230426T160747Z
UID:2200-1690210800-1690214400@ysbes.ca
SUMMARY:Job Search Café - Bank Street Location
DESCRIPTION:Come and join your Job Development and Outreach Team to discuss how we can support you with your job search. \nPlease note\, these sessions are offered inclusively for YSBES and :ITO2.0 registered clients.    Please contact your Employment Counsellor to receive the link to register to this session. \nWant to register with us\, please contact us at 613.236.8244 or esreception@ysb.ca.
URL:https://ysbes.ca/event/job-search-cafe-bank-street-location-9/
LOCATION:Ontario
CATEGORIES:Job Search Workshops
ORGANIZER;CN="YSB Employment Services":MAILTO:sboucher@ysb.ca
END:VEVENT
BEGIN:VEVENT
DTSTART;TZID=America/Toronto:20230727T133000
DTEND;TZID=America/Toronto:20230727T153000
DTSTAMP:20260422T153315
CREATED:20230720T141218Z
LAST-MODIFIED:20230720T141334Z
UID:2471-1690464600-1690471800@ysbes.ca
SUMMARY:Skilled Trades 101
DESCRIPTION:Interactive session to explore the skilled trades as a potential career path. You will be introduced to skilled trades and pathways to pursuing a career in the trades. \nLearn about how you can start today and accelerate in your career! \nSkilled trades is a lucrative field with many large scholarships and funding. Learn about resources available to you! \nConnect with industry professionals and find answers to your questions! \nPlease click here to register to this event.
URL:https://ysbes.ca/event/skilled-trades-101/
LOCATION:Ontario
CATEGORIES:Job Search Workshops
ORGANIZER;CN="YSB Employment Services":MAILTO:sboucher@ysb.ca
END:VEVENT
BEGIN:VEVENT
DTSTART;TZID=America/Toronto:20230731T150000
DTEND;TZID=America/Toronto:20230731T160000
DTSTAMP:20260422T153315
CREATED:20230426T161616Z
LAST-MODIFIED:20230426T161616Z
UID:2210-1690815600-1690819200@ysbes.ca
SUMMARY:Job Search Café - Moodie Location
DESCRIPTION:Come and join your Job Development and Outreach Team to discuss how we can support you with your job search. \nPlease note\, these sessions are offered inclusively for YSBES and :ITO2.0 registered clients.    Please contact your Employment Counsellor to receive the link to register to this session. \nWant to register with us\, please contact us at 613.236.8244 or esreception@ysb.ca.
URL:https://ysbes.ca/event/job-search-cafe-moodie-location-3/
LOCATION:Ontario
CATEGORIES:Job Search Workshops
ORGANIZER;CN="YSB Employment Services":MAILTO:sboucher@ysb.ca
END:VEVENT
END:VCALENDAR