BEGIN:VCALENDAR
VERSION:2.0
PRODID:-//YSB Employment Services d&#039;emploi du BSJ - ECPv6.15.20//NONSGML v1.0//EN
CALSCALE:GREGORIAN
METHOD:PUBLISH
X-WR-CALNAME:YSB Employment Services d&#039;emploi du BSJ
X-ORIGINAL-URL:https://ysbes.ca
X-WR-CALDESC:Events for YSB Employment Services d&#039;emploi du BSJ
REFRESH-INTERVAL;VALUE=DURATION:PT1H
X-Robots-Tag:noindex
X-PUBLISHED-TTL:PT1H
BEGIN:VTIMEZONE
TZID:America/Toronto
BEGIN:DAYLIGHT
TZOFFSETFROM:-0500
TZOFFSETTO:-0400
TZNAME:EDT
DTSTART:20220313T070000
END:DAYLIGHT
BEGIN:STANDARD
TZOFFSETFROM:-0400
TZOFFSETTO:-0500
TZNAME:EST
DTSTART:20221106T060000
END:STANDARD
BEGIN:DAYLIGHT
TZOFFSETFROM:-0500
TZOFFSETTO:-0400
TZNAME:EDT
DTSTART:20230312T070000
END:DAYLIGHT
BEGIN:STANDARD
TZOFFSETFROM:-0400
TZOFFSETTO:-0500
TZNAME:EST
DTSTART:20231105T060000
END:STANDARD
BEGIN:DAYLIGHT
TZOFFSETFROM:-0500
TZOFFSETTO:-0400
TZNAME:EDT
DTSTART:20240310T070000
END:DAYLIGHT
BEGIN:STANDARD
TZOFFSETFROM:-0400
TZOFFSETTO:-0500
TZNAME:EST
DTSTART:20241103T060000
END:STANDARD
END:VTIMEZONE
BEGIN:VEVENT
DTSTART;TZID=America/Toronto:20230427T133000
DTEND;TZID=America/Toronto:20230427T153000
DTSTAMP:20260421T015652
CREATED:20230328T181356Z
LAST-MODIFIED:20230425T155057Z
UID:2012-1682602200-1682609400@ysbes.ca
SUMMARY:Landscaper Opportunities Hiring Event
DESCRIPTION:Are you interested in landscaping opportunities? \nWe will have a landscapers from across Ottawa at our office on April 27th from 1:30pm to 3:30pm \nWe invite you to view the job descriptions at https://ysbes.ca/landscapers \nPlease let us know if you are attending by visiting: https://landscapers.eventbrite.ca \n 
URL:https://ysbes.ca/event/landscaper-opportunities-hiring-event/
LOCATION:YSB Employment Services SOUTH/EAST\, 703-1355 Bank Street\, Ottawa\, Ontario\, K1H 8K7\, Canada
CATEGORIES:Job Search Workshops
ORGANIZER;CN="YSB Employment Services":MAILTO:sboucher@ysb.ca
END:VEVENT
BEGIN:VEVENT
DTSTART;TZID=America/Toronto:20230425T133000
DTEND;TZID=America/Toronto:20230425T143000
DTSTAMP:20260421T015652
CREATED:20230316T150959Z
LAST-MODIFIED:20230316T150959Z
UID:1958-1682429400-1682433000@ysbes.ca
SUMMARY:Career Cruising
DESCRIPTION:Career Cruising helps users find relevant careers and information about required training. \nPlease click here to register for this event.
URL:https://ysbes.ca/event/career-cruising-9/
LOCATION:Virtual – Online
CATEGORIES:Job Search Workshops
ORGANIZER;CN="YSB Employment Services":MAILTO:sboucher@ysb.ca
END:VEVENT
BEGIN:VEVENT
DTSTART;TZID=America/Toronto:20230424T150000
DTEND;TZID=America/Toronto:20230424T160000
DTSTAMP:20260421T015652
CREATED:20230328T170703Z
LAST-MODIFIED:20230328T170703Z
UID:2000-1682348400-1682352000@ysbes.ca
SUMMARY:Job Search Café
DESCRIPTION:Come and join your Job Development and Outreach Team to discuss how we can support you with your job search. \nPlease note\, these sessions are offered inclusively for YSBES and :ITO2.0 registered clients.    Please contact your Employment Counsellor to receive the link to register to this session. \nWant to register with us\, please contact us at 613.236.8244 or esreception@ysb.ca.
URL:https://ysbes.ca/event/job-search-cafe-2/
CATEGORIES:Job Search Workshops
ORGANIZER;CN="YSB Employment Services":MAILTO:sboucher@ysb.ca
END:VEVENT
BEGIN:VEVENT
DTSTART;TZID=America/Toronto:20230424T133000
DTEND;TZID=America/Toronto:20230424T150000
DTSTAMP:20260421T015652
CREATED:20230316T145732Z
LAST-MODIFIED:20230316T145732Z
UID:1940-1682343000-1682348400@ysbes.ca
SUMMARY:How to Apply to the City of Ottawa
DESCRIPTION:Learn how to create an external profile in e-recruitment and apply. \nPlease click here to register for this event.
URL:https://ysbes.ca/event/how-to-apply-to-the-city-of-ottawa-8/
LOCATION:Virtual – Online
CATEGORIES:Job Search Workshops
ORGANIZER;CN="YSB Employment Services":MAILTO:sboucher@ysb.ca
END:VEVENT
END:VCALENDAR