BEGIN:VCALENDAR
VERSION:2.0
PRODID:-//YSB Employment Services d&#039;emploi du BSJ - ECPv6.15.20//NONSGML v1.0//EN
CALSCALE:GREGORIAN
METHOD:PUBLISH
X-WR-CALNAME:YSB Employment Services d&#039;emploi du BSJ
X-ORIGINAL-URL:https://ysbes.ca
X-WR-CALDESC:Events for YSB Employment Services d&#039;emploi du BSJ
REFRESH-INTERVAL;VALUE=DURATION:PT1H
X-Robots-Tag:noindex
X-PUBLISHED-TTL:PT1H
BEGIN:VTIMEZONE
TZID:America/Toronto
BEGIN:DAYLIGHT
TZOFFSETFROM:-0500
TZOFFSETTO:-0400
TZNAME:EDT
DTSTART:20230312T070000
END:DAYLIGHT
BEGIN:STANDARD
TZOFFSETFROM:-0400
TZOFFSETTO:-0500
TZNAME:EST
DTSTART:20231105T060000
END:STANDARD
BEGIN:DAYLIGHT
TZOFFSETFROM:-0500
TZOFFSETTO:-0400
TZNAME:EDT
DTSTART:20240310T070000
END:DAYLIGHT
BEGIN:STANDARD
TZOFFSETFROM:-0400
TZOFFSETTO:-0500
TZNAME:EST
DTSTART:20241103T060000
END:STANDARD
BEGIN:DAYLIGHT
TZOFFSETFROM:-0500
TZOFFSETTO:-0400
TZNAME:EDT
DTSTART:20250309T070000
END:DAYLIGHT
BEGIN:STANDARD
TZOFFSETFROM:-0400
TZOFFSETTO:-0500
TZNAME:EST
DTSTART:20251102T060000
END:STANDARD
END:VTIMEZONE
BEGIN:VEVENT
DTSTART;TZID=America/Toronto:20241023T100000
DTEND;TZID=America/Toronto:20241023T110000
DTSTAMP:20260419T091755
CREATED:20241009T145909Z
LAST-MODIFIED:20241009T145909Z
UID:7586-1729677600-1729681200@ysbes.ca
SUMMARY:Better Jobs Ontario Information Session
DESCRIPTION:Join us to learn more about what Better Jobs Ontario is\, qualification criteria and how YSB Employment Services can help you in the process \nThe Better Jobs Ontario program objective is to support unemployed individuals in need of skills training to help find employment in on-demand occupations with demonstrated labour market prospects in Ontario. \nJoin us to learn about: \n\nWhat is BJO?\nWhat is the eligibility & suitability criteria?\nRequired documentation\nNext steps\n\nPlease click on RSVP below and complete the required information – The link to the event will be provided on the day of the session.
URL:https://ysbes.ca/event/better-jobs-ontario-information-session-17/
LOCATION:Virtual – Online
ORGANIZER;CN="YSB Employment Services":MAILTO:sboucher@ysb.ca
END:VEVENT
BEGIN:VEVENT
DTSTART;TZID=America/Toronto:20241023T140000
DTEND;TZID=America/Toronto:20241023T150000
DTSTAMP:20260419T091755
CREATED:20241004T181127Z
LAST-MODIFIED:20241007T153644Z
UID:7556-1729692000-1729695600@ysbes.ca
SUMMARY:OCDSB Information Session
DESCRIPTION:OCDSB – Event \nOCDSB will be onsite to provide you with details on the the following services that they offer: \n\nAdult access to a high school diploma\nCoop credit courses\nPLAR (prior learning assessment and recognition)\n\n 
URL:https://ysbes.ca/event/ocdsb-information-session/
LOCATION:YSB Employment Services SOUTH/EAST\, 703-1355 Bank Street\, Ottawa\, Ontario\, K1H 8K7\, Canada
ORGANIZER;CN="YSB Employment Services":MAILTO:sboucher@ysb.ca
END:VEVENT
END:VCALENDAR