BEGIN:VCALENDAR
VERSION:2.0
PRODID:-//YSB Employment Services d&#039;emploi du BSJ - ECPv6.15.20//NONSGML v1.0//EN
CALSCALE:GREGORIAN
METHOD:PUBLISH
X-ORIGINAL-URL:https://ysbes.ca
X-WR-CALDESC:Events for YSB Employment Services d&#039;emploi du BSJ
REFRESH-INTERVAL;VALUE=DURATION:PT1H
X-Robots-Tag:noindex
X-PUBLISHED-TTL:PT1H
BEGIN:VTIMEZONE
TZID:America/Toronto
BEGIN:DAYLIGHT
TZOFFSETFROM:-0500
TZOFFSETTO:-0400
TZNAME:EDT
DTSTART:20230312T070000
END:DAYLIGHT
BEGIN:STANDARD
TZOFFSETFROM:-0400
TZOFFSETTO:-0500
TZNAME:EST
DTSTART:20231105T060000
END:STANDARD
BEGIN:DAYLIGHT
TZOFFSETFROM:-0500
TZOFFSETTO:-0400
TZNAME:EDT
DTSTART:20240310T070000
END:DAYLIGHT
BEGIN:STANDARD
TZOFFSETFROM:-0400
TZOFFSETTO:-0500
TZNAME:EST
DTSTART:20241103T060000
END:STANDARD
BEGIN:DAYLIGHT
TZOFFSETFROM:-0500
TZOFFSETTO:-0400
TZNAME:EDT
DTSTART:20250309T070000
END:DAYLIGHT
BEGIN:STANDARD
TZOFFSETFROM:-0400
TZOFFSETTO:-0500
TZNAME:EST
DTSTART:20251102T060000
END:STANDARD
END:VTIMEZONE
BEGIN:VEVENT
DTSTART;TZID=America/Toronto:20240425T133000
DTEND;TZID=America/Toronto:20240425T143000
DTSTAMP:20260421T235037
CREATED:20240410T142335Z
LAST-MODIFIED:20240423T155100Z
UID:3548-1714051800-1714055400@ysbes.ca
SUMMARY:Registered Client - Job Fair Registration
DESCRIPTION:Content is protected.
URL:https://ysbes.ca/event/4clients/
LOCATION:RA Centre\, 2451 Riverside Dr\, Ottawa\, Ontario\, K1H7X7\, Canada
ORGANIZER;CN="YSB Employment Services":MAILTO:sboucher@ysb.ca
END:VEVENT
BEGIN:VEVENT
DTSTART;TZID=America/Toronto:20240425T143000
DTEND;TZID=America/Toronto:20240425T160000
DTSTAMP:20260421T235037
CREATED:20240304T143630Z
LAST-MODIFIED:20240423T154832Z
UID:2823-1714055400-1714060800@ysbes.ca
SUMMARY:Multi-Employer Job Fair / Foire d'emploi multi-employeurs :
DESCRIPTION:Are you tired of applying online and not getting any responses? Register to attend the multi-employer job fair and meet directly with the Hiring Managers. \nPlease RSVP below. \nHere is a list of registered employers to date. This will change as more confirm! \n\nCOMFORCARE\nARX Fencing and Logistics\nNovacene AI Corp.\nDoro Inc.\nWestin Ottawa & Delta Hotels by Marriott Ottawa City Centre\nLone Star Restaurants\nSega Electric\nThe Ottawa Hospital\nCommunications Security Establishment Canada\nYouth Services Bureau\nRenaissance Repair and Supply Ltd.\nRecreation Cultural and Facility Services- City of Ottawa\nTOERSA Security\nOttawa-Carleton District School Board\nCity of Ottawa – OC Transpo\nCalypso Waterpark
URL:https://ysbes.ca/event/4public/
LOCATION:RA Centre\, 2451 Riverside Dr\, Ottawa\, Ontario\, K1H7X7\, Canada
ORGANIZER;CN="YSB Employment Services":MAILTO:sboucher@ysb.ca
END:VEVENT
END:VCALENDAR