BEGIN:VCALENDAR
VERSION:2.0
PRODID:-//YSB Employment Services d&#039;emploi du BSJ - ECPv6.15.20//NONSGML v1.0//EN
CALSCALE:GREGORIAN
METHOD:PUBLISH
X-ORIGINAL-URL:https://ysbes.ca
X-WR-CALDESC:Events for YSB Employment Services d&#039;emploi du BSJ
REFRESH-INTERVAL;VALUE=DURATION:PT1H
X-Robots-Tag:noindex
X-PUBLISHED-TTL:PT1H
BEGIN:VTIMEZONE
TZID:America/Toronto
BEGIN:DAYLIGHT
TZOFFSETFROM:-0500
TZOFFSETTO:-0400
TZNAME:EDT
DTSTART:20230312T070000
END:DAYLIGHT
BEGIN:STANDARD
TZOFFSETFROM:-0400
TZOFFSETTO:-0500
TZNAME:EST
DTSTART:20231105T060000
END:STANDARD
BEGIN:DAYLIGHT
TZOFFSETFROM:-0500
TZOFFSETTO:-0400
TZNAME:EDT
DTSTART:20240310T070000
END:DAYLIGHT
BEGIN:STANDARD
TZOFFSETFROM:-0400
TZOFFSETTO:-0500
TZNAME:EST
DTSTART:20241103T060000
END:STANDARD
BEGIN:DAYLIGHT
TZOFFSETFROM:-0500
TZOFFSETTO:-0400
TZNAME:EDT
DTSTART:20250309T070000
END:DAYLIGHT
BEGIN:STANDARD
TZOFFSETFROM:-0400
TZOFFSETTO:-0500
TZNAME:EST
DTSTART:20251102T060000
END:STANDARD
END:VTIMEZONE
BEGIN:VEVENT
DTSTART;TZID=America/Toronto:20240416T133000
DTEND;TZID=America/Toronto:20240416T143000
DTSTAMP:20260421T235005
CREATED:20240304T185526Z
LAST-MODIFIED:20240314T133737Z
UID:2846-1713274200-1713277800@ysbes.ca
SUMMARY:TOERSA Virtual Information Session
DESCRIPTION:The TOERSA TEAM is committed to changing the face of security in Ottawa and the surrounding areas over time. We feel that refined customer service and proper training will lead to more interactive security. \nIf you would like to learn more about TOERSA\, this session is for you! \nThe link to attend the actual session will be sent the morning of April 16th.
URL:https://ysbes.ca/event/toersa-virtual-information-session/
LOCATION:Virtual – Online
ORGANIZER;CN="YSB Employment Services":MAILTO:sboucher@ysb.ca
END:VEVENT
END:VCALENDAR