BEGIN:VCALENDAR
VERSION:2.0
PRODID:-//YSB Employment Services d&#039;emploi du BSJ - ECPv6.15.20//NONSGML v1.0//EN
CALSCALE:GREGORIAN
METHOD:PUBLISH
X-WR-CALNAME:YSB Employment Services d&#039;emploi du BSJ
X-ORIGINAL-URL:https://ysbes.ca
X-WR-CALDESC:Events for YSB Employment Services d&#039;emploi du BSJ
REFRESH-INTERVAL;VALUE=DURATION:PT1H
X-Robots-Tag:noindex
X-PUBLISHED-TTL:PT1H
BEGIN:VTIMEZONE
TZID:America/Toronto
BEGIN:DAYLIGHT
TZOFFSETFROM:-0500
TZOFFSETTO:-0400
TZNAME:EDT
DTSTART:20230312T070000
END:DAYLIGHT
BEGIN:STANDARD
TZOFFSETFROM:-0400
TZOFFSETTO:-0500
TZNAME:EST
DTSTART:20231105T060000
END:STANDARD
BEGIN:DAYLIGHT
TZOFFSETFROM:-0500
TZOFFSETTO:-0400
TZNAME:EDT
DTSTART:20240310T070000
END:DAYLIGHT
BEGIN:STANDARD
TZOFFSETFROM:-0400
TZOFFSETTO:-0500
TZNAME:EST
DTSTART:20241103T060000
END:STANDARD
BEGIN:DAYLIGHT
TZOFFSETFROM:-0500
TZOFFSETTO:-0400
TZNAME:EDT
DTSTART:20250309T070000
END:DAYLIGHT
BEGIN:STANDARD
TZOFFSETFROM:-0400
TZOFFSETTO:-0500
TZNAME:EST
DTSTART:20251102T060000
END:STANDARD
END:VTIMEZONE
BEGIN:VEVENT
DTSTART;TZID=America/Toronto:20240410T100000
DTEND;TZID=America/Toronto:20240410T110000
DTSTAMP:20260421T234714
CREATED:20240315T161531Z
LAST-MODIFIED:20240315T161531Z
UID:3228-1712743200-1712746800@ysbes.ca
SUMMARY:Better Jobs Ontario Information Session
DESCRIPTION:Join us to learn more about what Better Jobs Ontario is\, qualification criteria and how YSB Employment Services can help you in the process \nThe Better Jobs Ontario program objective is to support unemployed individuals in need of skills training to help find employment in on-demand occupations with demonstrated labour market prospects in Ontario. \nJoin us to learn about: \n\nWhat is BJO?\nWhat is the eligibility & suitability criteria?\nRequired documentation\nNext steps\n\nRegister at: https://www.eventbrite.ca/e/better-jobs-ontario-information-session-tickets-863908793457
URL:https://ysbes.ca/event/better-jobs-ontario-information-session-4/
LOCATION:Virtual – Online
ORGANIZER;CN="YSB Employment Services":MAILTO:sboucher@ysb.ca
END:VEVENT
BEGIN:VEVENT
DTSTART;TZID=America/Toronto:20240410T100000
DTEND;TZID=America/Toronto:20240410T160000
DTSTAMP:20260421T234714
CREATED:20240304T192320Z
LAST-MODIFIED:20240409T121857Z
UID:2891-1712743200-1712764800@ysbes.ca
SUMMARY:ARX Fencing & Logistics Interviews
DESCRIPTION:Please be sure to attend the virtual information session on April 9th at 1:30pm before scheduling an in person interview. This is not mandatory but will be a great resource to you for the actual interview. \nThe interviews are held at 1355 Bank Street On the 7th floor. Please select the one time slot that works for you to meet with the hiring manager of ARX. \nWe look forward to meeting you! \n 
URL:https://ysbes.ca/event/arx-fencing-logistics-interviews/
LOCATION:YSB Employment Services SOUTH/EAST\, 703-1355 Bank Street\, Ottawa\, Ontario\, K1H 8K7\, Canada
ORGANIZER;CN="YSB Employment Services":MAILTO:sboucher@ysb.ca
END:VEVENT
END:VCALENDAR