BEGIN:VCALENDAR
VERSION:2.0
PRODID:-//YSB Employment Services d&#039;emploi du BSJ - ECPv6.15.20//NONSGML v1.0//EN
CALSCALE:GREGORIAN
METHOD:PUBLISH
X-ORIGINAL-URL:https://ysbes.ca
X-WR-CALDESC:Events for YSB Employment Services d&#039;emploi du BSJ
REFRESH-INTERVAL;VALUE=DURATION:PT1H
X-Robots-Tag:noindex
X-PUBLISHED-TTL:PT1H
BEGIN:VTIMEZONE
TZID:America/Toronto
BEGIN:DAYLIGHT
TZOFFSETFROM:-0500
TZOFFSETTO:-0400
TZNAME:EDT
DTSTART:20230312T070000
END:DAYLIGHT
BEGIN:STANDARD
TZOFFSETFROM:-0400
TZOFFSETTO:-0500
TZNAME:EST
DTSTART:20231105T060000
END:STANDARD
BEGIN:DAYLIGHT
TZOFFSETFROM:-0500
TZOFFSETTO:-0400
TZNAME:EDT
DTSTART:20240310T070000
END:DAYLIGHT
BEGIN:STANDARD
TZOFFSETFROM:-0400
TZOFFSETTO:-0500
TZNAME:EST
DTSTART:20241103T060000
END:STANDARD
BEGIN:DAYLIGHT
TZOFFSETFROM:-0500
TZOFFSETTO:-0400
TZNAME:EDT
DTSTART:20250309T070000
END:DAYLIGHT
BEGIN:STANDARD
TZOFFSETFROM:-0400
TZOFFSETTO:-0500
TZNAME:EST
DTSTART:20251102T060000
END:STANDARD
END:VTIMEZONE
BEGIN:VEVENT
DTSTART;TZID=America/Toronto:20240409T133000
DTEND;TZID=America/Toronto:20240409T143000
DTSTAMP:20260421T235034
CREATED:20240304T182958Z
LAST-MODIFIED:20240409T170740Z
UID:2838-1712669400-1712673000@ysbes.ca
SUMMARY:ARX Fencing & Logistics Virtual Information Session
DESCRIPTION:Are you looking for new and exciting work? Do you enjoy working with people? \nJoin our virtual information session to learn about what ARX Fencing and Logistics has to offer you! \nVirtual Session: April 9th\, 2024 | 1:30 PM \nFor those that are interested\, interviews will be booked for April 10th\, 2024 in person at our Bank St office.  \nPlease RSVP to attend.  \nJoin on your computer\, mobile app or room device\, Click here to join the meeting
URL:https://ysbes.ca/event/arx-fencing-logistics-virtual-information-session/
LOCATION:Virtual – Online
ORGANIZER;CN="YSB Employment Services":MAILTO:sboucher@ysb.ca
END:VEVENT
END:VCALENDAR