BEGIN:VCALENDAR
VERSION:2.0
PRODID:-//YSB Employment Services d&#039;emploi du BSJ - ECPv6.15.20//NONSGML v1.0//EN
CALSCALE:GREGORIAN
METHOD:PUBLISH
X-WR-CALNAME:YSB Employment Services d&#039;emploi du BSJ
X-ORIGINAL-URL:https://ysbes.ca
X-WR-CALDESC:Events for YSB Employment Services d&#039;emploi du BSJ
REFRESH-INTERVAL;VALUE=DURATION:PT1H
X-Robots-Tag:noindex
X-PUBLISHED-TTL:PT1H
BEGIN:VTIMEZONE
TZID:America/Toronto
BEGIN:DAYLIGHT
TZOFFSETFROM:-0500
TZOFFSETTO:-0400
TZNAME:EDT
DTSTART:20220313T070000
END:DAYLIGHT
BEGIN:STANDARD
TZOFFSETFROM:-0400
TZOFFSETTO:-0500
TZNAME:EST
DTSTART:20221106T060000
END:STANDARD
BEGIN:DAYLIGHT
TZOFFSETFROM:-0500
TZOFFSETTO:-0400
TZNAME:EDT
DTSTART:20230312T070000
END:DAYLIGHT
BEGIN:STANDARD
TZOFFSETFROM:-0400
TZOFFSETTO:-0500
TZNAME:EST
DTSTART:20231105T060000
END:STANDARD
BEGIN:DAYLIGHT
TZOFFSETFROM:-0500
TZOFFSETTO:-0400
TZNAME:EDT
DTSTART:20240310T070000
END:DAYLIGHT
BEGIN:STANDARD
TZOFFSETFROM:-0400
TZOFFSETTO:-0500
TZNAME:EST
DTSTART:20241103T060000
END:STANDARD
END:VTIMEZONE
BEGIN:VEVENT
DTSTART;TZID=America/Toronto:20230824T090000
DTEND;TZID=America/Toronto:20230824T120000
DTSTAMP:20260422T152545
CREATED:20230815T172158Z
LAST-MODIFIED:20230815T172329Z
UID:2523-1692867600-1692878400@ysbes.ca
SUMMARY:Newcomer youth (30 or younger) Resume Building Workshop
DESCRIPTION:What are we offering? A 3 hour in-person workshop in English on resume building \nFor whom? Newcomer youth (30 or younger) who are unemployed or underemployed and living in Ottawa \nWhere? YSB Employment Services\,1355 Bank St 7th floor\, Ottawa\, ON K1H 8K7 \nWhat does it include? An interactive session on building a solid Canadian resume \nWhat to bring on the day: Your immigration document and Your resume \nPlease click here to register to this event.
URL:https://ysbes.ca/event/newcomer-youth-30-or-younger-resume-building-workshop/
LOCATION:Ontario
CATEGORIES:Job Search Workshops
ORGANIZER;CN="YSB Employment Services":MAILTO:sboucher@ysb.ca
END:VEVENT
END:VCALENDAR