BEGIN:VCALENDAR
VERSION:2.0
PRODID:-//YSB Employment Services d&#039;emploi du BSJ - ECPv6.15.20//NONSGML v1.0//EN
CALSCALE:GREGORIAN
METHOD:PUBLISH
X-WR-CALNAME:YSB Employment Services d&#039;emploi du BSJ
X-ORIGINAL-URL:https://ysbes.ca
X-WR-CALDESC:Events for YSB Employment Services d&#039;emploi du BSJ
REFRESH-INTERVAL;VALUE=DURATION:PT1H
X-Robots-Tag:noindex
X-PUBLISHED-TTL:PT1H
BEGIN:VTIMEZONE
TZID:America/Toronto
BEGIN:DAYLIGHT
TZOFFSETFROM:-0500
TZOFFSETTO:-0400
TZNAME:EDT
DTSTART:20220313T070000
END:DAYLIGHT
BEGIN:STANDARD
TZOFFSETFROM:-0400
TZOFFSETTO:-0500
TZNAME:EST
DTSTART:20221106T060000
END:STANDARD
BEGIN:DAYLIGHT
TZOFFSETFROM:-0500
TZOFFSETTO:-0400
TZNAME:EDT
DTSTART:20230312T070000
END:DAYLIGHT
BEGIN:STANDARD
TZOFFSETFROM:-0400
TZOFFSETTO:-0500
TZNAME:EST
DTSTART:20231105T060000
END:STANDARD
BEGIN:DAYLIGHT
TZOFFSETFROM:-0500
TZOFFSETTO:-0400
TZNAME:EDT
DTSTART:20240310T070000
END:DAYLIGHT
BEGIN:STANDARD
TZOFFSETFROM:-0400
TZOFFSETTO:-0500
TZNAME:EST
DTSTART:20241103T060000
END:STANDARD
END:VTIMEZONE
BEGIN:VEVENT
DTSTART;TZID=America/Toronto:20230629T100000
DTEND;TZID=America/Toronto:20230629T150000
DTSTAMP:20260422T171917
CREATED:20230529T132334Z
LAST-MODIFIED:20230529T132351Z
UID:2324-1688032800-1688050800@ysbes.ca
SUMMARY:Foire d'emploi Francophone
DESCRIPTION:Foire d’emploi Francophone est un événement en personne qui se tiendra le jeudi 29 juin 2023 à  partir de 10h00\, heure de l’Est. L’événement aura lieu à  270 Avenue Marier\, Ottawa\, ON K1L 5P8. Cette foire d’emploi est destinée aux chercheurs d’emploi francophones qui souhaitent découvrir de nouvelles opportunités de carrière. Les employeurs participants seront des entreprises et des organisations de la région d’Ottawa cherchant à  recruter des candidats francophones pour divers postes. C’est une occasion unique de rencontrer des employeurs locaux\, de discuter avec eux de vos compétences et de vos aspirations professionnelles\, et de postuler à  des emplois en personne. Ne manquez pas cette opportunité de trouver votre prochain emploi francophone à  Ottawa ! \nVeuillez cliquer ici pour vous inscrire à  cet événement.
URL:https://ysbes.ca/event/foire-demploi-francophone/
LOCATION:Ontario
CATEGORIES:Job Search Workshops
ORGANIZER;CN="YSB Employment Services":MAILTO:sboucher@ysb.ca
END:VEVENT
BEGIN:VEVENT
DTSTART;TZID=America/Toronto:20230629T130000
DTEND;TZID=America/Toronto:20230629T160000
DTSTAMP:20260422T171917
CREATED:20230621T192959Z
LAST-MODIFIED:20230621T192959Z
UID:2415-1688043600-1688054400@ysbes.ca
SUMMARY:MULTI-EMPLOYER JOB FAIR
DESCRIPTION:We are looking forward to meeting you at our upcoming Multi Employer Job Fair on June 29th\, 2023 from 1pm to 4pm. \nHere is an ever growing list of employers that will be in attendance to meet with you: \n\nHard Rock Ottawa\nComForCare\nClocktower Brew Pub\nStarbucks Coffee Company\nWestin Ottawa & Delta Hotels by Marriott Ottawa City Centre\nOC Transpo – Bus Operators\nDynacorp Construction Ltd\nMeticulous Maids Cleaners\nLafleur Vision Advertising Inc – Customer Service Fundraiser\nB Turner Law – Digital Marketing Specialist\nThe Portia Learning Centre – ABA Instructor Therapists\nCrossroads Truck & Career Academy – Commercial Transportation Training & Academic Training Facility\nRiverstone Retirement Communities\nAsbex Ltd. – Various Roles\nCity of Ottawa – Recreation\, Cultural and Facility Services\nBoyer & Boyer\, CPA\nARX Fencing & Logistics\n\nPlease click here to register for this event.
URL:https://ysbes.ca/event/multi-employer-job-fair-2/
LOCATION:Ontario
CATEGORIES:Job Search Workshops
ORGANIZER;CN="YSB Employment Services":MAILTO:sboucher@ysb.ca
END:VEVENT
END:VCALENDAR