BEGIN:VCALENDAR
VERSION:2.0
PRODID:-//YSB Employment Services d&#039;emploi du BSJ - ECPv6.15.20//NONSGML v1.0//EN
CALSCALE:GREGORIAN
METHOD:PUBLISH
X-ORIGINAL-URL:https://ysbes.ca
X-WR-CALDESC:Events for YSB Employment Services d&#039;emploi du BSJ
REFRESH-INTERVAL;VALUE=DURATION:PT1H
X-Robots-Tag:noindex
X-PUBLISHED-TTL:PT1H
BEGIN:VTIMEZONE
TZID:America/Toronto
BEGIN:DAYLIGHT
TZOFFSETFROM:-0500
TZOFFSETTO:-0400
TZNAME:EDT
DTSTART:20220313T070000
END:DAYLIGHT
BEGIN:STANDARD
TZOFFSETFROM:-0400
TZOFFSETTO:-0500
TZNAME:EST
DTSTART:20221106T060000
END:STANDARD
BEGIN:DAYLIGHT
TZOFFSETFROM:-0500
TZOFFSETTO:-0400
TZNAME:EDT
DTSTART:20230312T070000
END:DAYLIGHT
BEGIN:STANDARD
TZOFFSETFROM:-0400
TZOFFSETTO:-0500
TZNAME:EST
DTSTART:20231105T060000
END:STANDARD
BEGIN:DAYLIGHT
TZOFFSETFROM:-0500
TZOFFSETTO:-0400
TZNAME:EDT
DTSTART:20240310T070000
END:DAYLIGHT
BEGIN:STANDARD
TZOFFSETFROM:-0400
TZOFFSETTO:-0500
TZNAME:EST
DTSTART:20241103T060000
END:STANDARD
END:VTIMEZONE
BEGIN:VEVENT
DTSTART;TZID=America/Toronto:20230622T133000
DTEND;TZID=America/Toronto:20230622T153000
DTSTAMP:20260422T192620
CREATED:20230529T135044Z
LAST-MODIFIED:20230529T135044Z
UID:2337-1687440600-1687447800@ysbes.ca
SUMMARY:MS Excel 2
DESCRIPTION:Learn how to create visual representations of your Excel data\, how to use Pivot tables\, and explore various Excel functions. \nPlease click here to register for this event.
URL:https://ysbes.ca/event/ms-excel-2-9/
LOCATION:Online Teams Event
CATEGORIES:Job Search Workshops
ORGANIZER;CN="YSB Employment Services":MAILTO:sboucher@ysb.ca
END:VEVENT
BEGIN:VEVENT
DTSTART;TZID=America/Toronto:20230622T133000
DTEND;TZID=America/Toronto:20230622T153000
DTSTAMP:20260422T192620
CREATED:20230609T191215Z
LAST-MODIFIED:20230613T161159Z
UID:2347-1687440600-1687447800@ysbes.ca
SUMMARY:Royal Canadian Mint Recruitment Information Session
DESCRIPTION:The Royal Canadian Mint is a progressive commercial Crown Corporation with more than 1\,200 employees based in Ottawa and Winnipeg. If you want to be part of a dynamic organization with a global reputation for quality and innovation\, we invite you to consult our varied career opportunities. \nAs an equal opportunity employer\, we welcome applications from women\, Indigenous peoples\, persons with disabilities and members of visible minorities. A diverse pool of candidates will help us to achieve hiring the most qualified candidates. \nThe Royal Canadian Mint is committed to achieving and maintaining a workforce that reflects and embraces the diversity of Canadian society\, and to providing an environment that promotes inclusion\, equity and respect for others. \nThey take great pride in the diverse talents of our workforce\, and offer our employees a friendly work environment\, competitive salaries\, performance bonuses\, comprehensive benefits and the opportunity to grow. \nPlease click here to register to this event.
URL:https://ysbes.ca/event/royal-canadian-mint-recruitment-information-session/
LOCATION:Ontario
CATEGORIES:Job Search Workshops
ORGANIZER;CN="YSB Employment Services":MAILTO:sboucher@ysb.ca
END:VEVENT
END:VCALENDAR