BEGIN:VCALENDAR
VERSION:2.0
PRODID:-//YSB Employment Services d&#039;emploi du BSJ - ECPv6.15.20//NONSGML v1.0//EN
CALSCALE:GREGORIAN
METHOD:PUBLISH
X-WR-CALNAME:YSB Employment Services d&#039;emploi du BSJ
X-ORIGINAL-URL:https://ysbes.ca
X-WR-CALDESC:Events for YSB Employment Services d&#039;emploi du BSJ
REFRESH-INTERVAL;VALUE=DURATION:PT1H
X-Robots-Tag:noindex
X-PUBLISHED-TTL:PT1H
BEGIN:VTIMEZONE
TZID:America/Toronto
BEGIN:DAYLIGHT
TZOFFSETFROM:-0500
TZOFFSETTO:-0400
TZNAME:EDT
DTSTART:20220313T070000
END:DAYLIGHT
BEGIN:STANDARD
TZOFFSETFROM:-0400
TZOFFSETTO:-0500
TZNAME:EST
DTSTART:20221106T060000
END:STANDARD
BEGIN:DAYLIGHT
TZOFFSETFROM:-0500
TZOFFSETTO:-0400
TZNAME:EDT
DTSTART:20230312T070000
END:DAYLIGHT
BEGIN:STANDARD
TZOFFSETFROM:-0400
TZOFFSETTO:-0500
TZNAME:EST
DTSTART:20231105T060000
END:STANDARD
BEGIN:DAYLIGHT
TZOFFSETFROM:-0500
TZOFFSETTO:-0400
TZNAME:EDT
DTSTART:20240310T070000
END:DAYLIGHT
BEGIN:STANDARD
TZOFFSETFROM:-0400
TZOFFSETTO:-0500
TZNAME:EST
DTSTART:20241103T060000
END:STANDARD
END:VTIMEZONE
BEGIN:VEVENT
DTSTART;TZID=America/Toronto:20230614T133000
DTEND;TZID=America/Toronto:20230614T143000
DTSTAMP:20260422T192639
CREATED:20230529T135250Z
LAST-MODIFIED:20230529T135250Z
UID:2340-1686749400-1686753000@ysbes.ca
SUMMARY:Career Cruising
DESCRIPTION:Career Cruising helps users find relevant careers and information about required training. \nPlease click here to register for this event.
URL:https://ysbes.ca/event/career-cruising-10/
LOCATION:Virtual – Online
CATEGORIES:Job Search Workshops
ORGANIZER;CN="YSB Employment Services":MAILTO:sboucher@ysb.ca
END:VEVENT
BEGIN:VEVENT
DTSTART;TZID=America/Toronto:20230614T133000
DTEND;TZID=America/Toronto:20230614T153000
DTSTAMP:20260422T192639
CREATED:20230505T191433Z
LAST-MODIFIED:20230505T191433Z
UID:2303-1686749400-1686756600@ysbes.ca
SUMMARY:ComForCare Information Session
DESCRIPTION:Are you looking to be a PSW\, Caregiver or Homemaker? Join us to learn what you need to work with ComForCare. \nRegister now at https://ComForCare.eventbrite.ca
URL:https://ysbes.ca/event/comforcare-information-session/
LOCATION:YSB Employment Services SOUTH/EAST\, 703-1355 Bank Street\, Ottawa\, Ontario\, K1H 8K7\, Canada
CATEGORIES:Job Search Workshops
ORGANIZER;CN="YSB Employment Services":MAILTO:sboucher@ysb.ca
END:VEVENT
END:VCALENDAR