BEGIN:VCALENDAR
VERSION:2.0
PRODID:-//YSB Employment Services d&#039;emploi du BSJ - ECPv6.15.20//NONSGML v1.0//EN
CALSCALE:GREGORIAN
METHOD:PUBLISH
X-ORIGINAL-URL:https://ysbes.ca
X-WR-CALDESC:Events for YSB Employment Services d&#039;emploi du BSJ
REFRESH-INTERVAL;VALUE=DURATION:PT1H
X-Robots-Tag:noindex
X-PUBLISHED-TTL:PT1H
BEGIN:VTIMEZONE
TZID:America/Toronto
BEGIN:DAYLIGHT
TZOFFSETFROM:-0500
TZOFFSETTO:-0400
TZNAME:EDT
DTSTART:20220313T070000
END:DAYLIGHT
BEGIN:STANDARD
TZOFFSETFROM:-0400
TZOFFSETTO:-0500
TZNAME:EST
DTSTART:20221106T060000
END:STANDARD
BEGIN:DAYLIGHT
TZOFFSETFROM:-0500
TZOFFSETTO:-0400
TZNAME:EDT
DTSTART:20230312T070000
END:DAYLIGHT
BEGIN:STANDARD
TZOFFSETFROM:-0400
TZOFFSETTO:-0500
TZNAME:EST
DTSTART:20231105T060000
END:STANDARD
BEGIN:DAYLIGHT
TZOFFSETFROM:-0500
TZOFFSETTO:-0400
TZNAME:EDT
DTSTART:20240310T070000
END:DAYLIGHT
BEGIN:STANDARD
TZOFFSETFROM:-0400
TZOFFSETTO:-0500
TZNAME:EST
DTSTART:20241103T060000
END:STANDARD
END:VTIMEZONE
BEGIN:VEVENT
DTSTART;TZID=America/Toronto:20230606T100000
DTEND;TZID=America/Toronto:20230606T110000
DTSTAMP:20260422T192619
CREATED:20230426T154007Z
LAST-MODIFIED:20230426T154007Z
UID:2178-1686045600-1686049200@ysbes.ca
SUMMARY:Better Jobs Ontario (Formerly Second Career) Information Session
DESCRIPTION:Better Jobs Ontario helps you train for a new job. It provides financial support to help eligible Ontarians participate in training for a new career. This on-line session will explain the Better Jobs Ontario program\, who can apply\, what kind of supports are available and how to begin the process. \nPlease click here to register for this event.
URL:https://ysbes.ca/event/better-jobs-ontario-formerly-second-career-information-session-17/
LOCATION:Online Teams Event
CATEGORIES:Job Search Workshops
ORGANIZER;CN="YSB Employment Services":MAILTO:sboucher@ysb.ca
END:VEVENT
BEGIN:VEVENT
DTSTART;TZID=America/Toronto:20230606T130000
DTEND;TZID=America/Toronto:20230606T160000
DTSTAMP:20260422T192619
CREATED:20230529T134306Z
LAST-MODIFIED:20230529T134306Z
UID:2329-1686056400-1686067200@ysbes.ca
SUMMARY:Jobs Canada - Ottawa Career Fair
DESCRIPTION:Network with Government\, National Companies\, Independent businesses\, and Organizations providing employment services\, career resources\, training\, and continuing education programs. \nPlease click here to register for this event.
URL:https://ysbes.ca/event/jobs-canada-ottawa-career-fair/
LOCATION:Shaw Centre\, 55 Colonel By Drive\, Ottawa\, ON\, K1N 9J2\, Canada
CATEGORIES:Job Search Workshops
ORGANIZER;CN="YSB Employment Services":MAILTO:sboucher@ysb.ca
END:VEVENT
END:VCALENDAR