BEGIN:VCALENDAR
VERSION:2.0
PRODID:-//YSB Employment Services d&#039;emploi du BSJ - ECPv6.15.20//NONSGML v1.0//EN
CALSCALE:GREGORIAN
METHOD:PUBLISH
X-ORIGINAL-URL:https://ysbes.ca
X-WR-CALDESC:Events for YSB Employment Services d&#039;emploi du BSJ
REFRESH-INTERVAL;VALUE=DURATION:PT1H
X-Robots-Tag:noindex
X-PUBLISHED-TTL:PT1H
BEGIN:VTIMEZONE
TZID:America/Toronto
BEGIN:DAYLIGHT
TZOFFSETFROM:-0500
TZOFFSETTO:-0400
TZNAME:EDT
DTSTART:20220313T070000
END:DAYLIGHT
BEGIN:STANDARD
TZOFFSETFROM:-0400
TZOFFSETTO:-0500
TZNAME:EST
DTSTART:20221106T060000
END:STANDARD
BEGIN:DAYLIGHT
TZOFFSETFROM:-0500
TZOFFSETTO:-0400
TZNAME:EDT
DTSTART:20230312T070000
END:DAYLIGHT
BEGIN:STANDARD
TZOFFSETFROM:-0400
TZOFFSETTO:-0500
TZNAME:EST
DTSTART:20231105T060000
END:STANDARD
BEGIN:DAYLIGHT
TZOFFSETFROM:-0500
TZOFFSETTO:-0400
TZNAME:EDT
DTSTART:20240310T070000
END:DAYLIGHT
BEGIN:STANDARD
TZOFFSETFROM:-0400
TZOFFSETTO:-0500
TZNAME:EST
DTSTART:20241103T060000
END:STANDARD
END:VTIMEZONE
BEGIN:VEVENT
DTSTART;TZID=America/Toronto:20230523T133000
DTEND;TZID=America/Toronto:20230523T153000
DTSTAMP:20260422T211045
CREATED:20230501T172657Z
LAST-MODIFIED:20230501T183800Z
UID:2277-1684848600-1684855800@ysbes.ca
SUMMARY:Ottawa Public Library Information Session
DESCRIPTION:Have you ever thought about working for Ottawa Public Library? \nLearn about what it’s like to work for OPL \nFind out about job opportunities and career paths that we have available \nMeet current OPL employees and make connections with our team! \nSeats are limited\, secure yours today by visiting: https://opl-May23.eventbrite.ca
URL:https://ysbes.ca/event/opl-may23/
LOCATION:YSB Employment Services SOUTH/EAST\, 703-1355 Bank Street\, Ottawa\, Ontario\, K1H 8K7\, Canada
CATEGORIES:Job Search Workshops
ORGANIZER;CN="YSB Employment Services":MAILTO:sboucher@ysb.ca
END:VEVENT
END:VCALENDAR