BEGIN:VCALENDAR
VERSION:2.0
PRODID:-//YSB Employment Services d&#039;emploi du BSJ - ECPv6.15.20//NONSGML v1.0//EN
CALSCALE:GREGORIAN
METHOD:PUBLISH
X-WR-CALNAME:YSB Employment Services d&#039;emploi du BSJ
X-ORIGINAL-URL:https://ysbes.ca
X-WR-CALDESC:Events for YSB Employment Services d&#039;emploi du BSJ
REFRESH-INTERVAL;VALUE=DURATION:PT1H
X-Robots-Tag:noindex
X-PUBLISHED-TTL:PT1H
BEGIN:VTIMEZONE
TZID:America/Toronto
BEGIN:DAYLIGHT
TZOFFSETFROM:-0500
TZOFFSETTO:-0400
TZNAME:EDT
DTSTART:20220313T070000
END:DAYLIGHT
BEGIN:STANDARD
TZOFFSETFROM:-0400
TZOFFSETTO:-0500
TZNAME:EST
DTSTART:20221106T060000
END:STANDARD
BEGIN:DAYLIGHT
TZOFFSETFROM:-0500
TZOFFSETTO:-0400
TZNAME:EDT
DTSTART:20230312T070000
END:DAYLIGHT
BEGIN:STANDARD
TZOFFSETFROM:-0400
TZOFFSETTO:-0500
TZNAME:EST
DTSTART:20231105T060000
END:STANDARD
BEGIN:DAYLIGHT
TZOFFSETFROM:-0500
TZOFFSETTO:-0400
TZNAME:EDT
DTSTART:20240310T070000
END:DAYLIGHT
BEGIN:STANDARD
TZOFFSETFROM:-0400
TZOFFSETTO:-0500
TZNAME:EST
DTSTART:20241103T060000
END:STANDARD
END:VTIMEZONE
BEGIN:VEVENT
DTSTART;TZID=America/Toronto:20230509T133000
DTEND;TZID=America/Toronto:20230509T143000
DTSTAMP:20260422T225824
CREATED:20230426T153707Z
LAST-MODIFIED:20230426T153707Z
UID:2176-1683639000-1683642600@ysbes.ca
SUMMARY:Better Jobs Ontario (Formerly Second Career) Information Session
DESCRIPTION:Better Jobs Ontario helps you train for a new job. It provides financial support to help eligible Ontarians participate in training for a new career. This on-line session will explain the Better Jobs Ontario program\, who can apply\, what kind of supports are available and how to begin the process. \nPlease click here to register for this event.
URL:https://ysbes.ca/event/better-jobs-ontario-formerly-second-career-information-session-16/
LOCATION:Online Teams Event
CATEGORIES:Job Search Workshops
ORGANIZER;CN="YSB Employment Services":MAILTO:sboucher@ysb.ca
END:VEVENT
BEGIN:VEVENT
DTSTART;TZID=America/Toronto:20230509T150000
DTEND;TZID=America/Toronto:20230509T180000
DTSTAMP:20260422T225824
CREATED:20230426T173218Z
LAST-MODIFIED:20230426T173316Z
UID:2239-1683644400-1683655200@ysbes.ca
SUMMARY:Carlingwood Retail Hiring Event
DESCRIPTION:Join us at Carlingwood Shopping Centre on Tuesday May 9th from 3 to 6pm to meet with the hiring managers of many retailers in the mall. \nVisit https://ysbes.ca/community to let us know that you will be attending! \nWe look forward to meeting you.
URL:https://ysbes.ca/event/carlingwood-retail-hiring-event/
LOCATION:Ontario
CATEGORIES:Job Search Workshops
ORGANIZER;CN="YSB Employment Services":MAILTO:sboucher@ysb.ca
END:VEVENT
END:VCALENDAR